BEGIN:VCALENDAR
VERSION:2.0
PRODID:-//Kokomo Area Performing Arts League - ECPv6.6.2//NONSGML v1.0//EN
CALSCALE:GREGORIAN
METHOD:PUBLISH
X-ORIGINAL-URL:https://kokomoperformingarts.org
X-WR-CALDESC:Events for Kokomo Area Performing Arts League
REFRESH-INTERVAL;VALUE=DURATION:PT1H
X-Robots-Tag:noindex
X-PUBLISHED-TTL:PT1H
BEGIN:VTIMEZONE
TZID:UTC
BEGIN:STANDARD
TZOFFSETFROM:+0000
TZOFFSETTO:+0000
TZNAME:UTC
DTSTART:20240101T000000
END:STANDARD
END:VTIMEZONE
BEGIN:VEVENT
DTSTART;TZID=UTC:20241019T170000
DTEND;TZID=UTC:20241019T210000
DTSTAMP:20260424T231359
CREATED:20240826T031336Z
LAST-MODIFIED:20241017T011012Z
UID:10000007-1729357200-1729371600@kokomoperformingarts.org
SUMMARY:Do Good with Chipotle Fundraiser (25% donation with mention of fundraiser 5-9 PM)
DESCRIPTION:
URL:https://kokomoperformingarts.org/event/do-good-with-chipotle-fundraiser-25-donation-with-mention-of-fundraiser-5-9-pm/
LOCATION:Chipotle\, 1201 S Reed Rd\, STE B\, Kokomo\, IN\, 46902\, United States
CATEGORIES:Curtain Call
END:VEVENT
END:VCALENDAR