BEGIN:VCALENDAR
VERSION:2.0
PRODID:-//Kokomo Area Performing Arts League - ECPv6.6.2//NONSGML v1.0//EN
CALSCALE:GREGORIAN
METHOD:PUBLISH
X-ORIGINAL-URL:https://kokomoperformingarts.org
X-WR-CALDESC:Events for Kokomo Area Performing Arts League
REFRESH-INTERVAL;VALUE=DURATION:PT1H
X-Robots-Tag:noindex
X-PUBLISHED-TTL:PT1H
BEGIN:VTIMEZONE
TZID:UTC
BEGIN:STANDARD
TZOFFSETFROM:+0000
TZOFFSETTO:+0000
TZNAME:UTC
DTSTART:20250101T000000
END:STANDARD
END:VTIMEZONE
BEGIN:VEVENT
DTSTART;TZID=UTC:20250510T100000
DTEND;TZID=UTC:20250510T160000
DTSTAMP:20260424T005848
CREATED:20250508T183855Z
LAST-MODIFIED:20250508T183855Z
UID:10000058-1746871200-1746892800@kokomoperformingarts.org
SUMMARY:Auditions: Joseph & the Amazing Technicolor Dreamcoat
DESCRIPTION:
URL:https://kokomoperformingarts.org/event/auditions-joseph-the-amazing-technicolor-dreamcoat/
LOCATION:Curtain Call Studio\, 2114 N. Armstrong Street\, Kokomo\, IN\, 46901\, United States
CATEGORIES:Curtain Call
END:VEVENT
BEGIN:VEVENT
DTSTART;TZID=UTC:20250516T190000
DTEND;TZID=UTC:20250516T210000
DTSTAMP:20260424T005848
CREATED:20250508T184220Z
LAST-MODIFIED:20250508T184220Z
UID:10000060-1747422000-1747429200@kokomoperformingarts.org
SUMMARY:The Yellow Boat Production
DESCRIPTION:
URL:https://kokomoperformingarts.org/event/the-yellow-boat-production/
LOCATION:Curtain Call Studio\, 2114 N. Armstrong Street\, Kokomo\, IN\, 46901\, United States
CATEGORIES:Curtain Call
END:VEVENT
BEGIN:VEVENT
DTSTART;TZID=UTC:20250517T130000
DTEND;TZID=UTC:20250517T150000
DTSTAMP:20260424T005848
CREATED:20250508T184329Z
LAST-MODIFIED:20250508T184329Z
UID:10000061-1747486800-1747494000@kokomoperformingarts.org
SUMMARY:The Yellow Boat Production
DESCRIPTION:
URL:https://kokomoperformingarts.org/event/the-yellow-boat-production-2/
LOCATION:Curtain Call Studio\, 2114 N. Armstrong Street\, Kokomo\, IN\, 46901\, United States
CATEGORIES:Curtain Call
END:VEVENT
BEGIN:VEVENT
DTSTART;TZID=UTC:20250518T130000
DTEND;TZID=UTC:20250518T150000
DTSTAMP:20260424T005848
CREATED:20250508T184402Z
LAST-MODIFIED:20250508T184402Z
UID:10000062-1747573200-1747580400@kokomoperformingarts.org
SUMMARY:The Yellow Boat Production
DESCRIPTION:
URL:https://kokomoperformingarts.org/event/the-yellow-boat-production-3/
LOCATION:Curtain Call Studio\, 2114 N. Armstrong Street\, Kokomo\, IN\, 46901\, United States
CATEGORIES:Curtain Call
END:VEVENT
BEGIN:VEVENT
DTSTART;TZID=UTC:20250518T160000
DTEND;TZID=UTC:20250518T180000
DTSTAMP:20260424T005848
CREATED:20250508T184426Z
LAST-MODIFIED:20250508T184426Z
UID:10000063-1747584000-1747591200@kokomoperformingarts.org
SUMMARY:The Yellow Boat Production
DESCRIPTION:
URL:https://kokomoperformingarts.org/event/the-yellow-boat-production-4/
LOCATION:Curtain Call Studio\, 2114 N. Armstrong Street\, Kokomo\, IN\, 46901\, United States
CATEGORIES:Curtain Call
END:VEVENT
END:VCALENDAR