BEGIN:VCALENDAR
VERSION:2.0
PRODID:-//Kokomo Area Performing Arts League - ECPv6.6.2//NONSGML v1.0//EN
CALSCALE:GREGORIAN
METHOD:PUBLISH
X-ORIGINAL-URL:https://kokomoperformingarts.org
X-WR-CALDESC:Events for Kokomo Area Performing Arts League
REFRESH-INTERVAL;VALUE=DURATION:PT1H
X-Robots-Tag:noindex
X-PUBLISHED-TTL:PT1H
BEGIN:VTIMEZONE
TZID:UTC
BEGIN:STANDARD
TZOFFSETFROM:+0000
TZOFFSETTO:+0000
TZNAME:UTC
DTSTART:20260101T000000
END:STANDARD
END:VTIMEZONE
BEGIN:VEVENT
DTSTART;TZID=UTC:20260313T190000
DTEND;TZID=UTC:20260313T210000
DTSTAMP:20260421T101819
CREATED:20251210T223431Z
LAST-MODIFIED:20251210T223431Z
UID:10000125-1773428400-1773435600@kokomoperformingarts.org
SUMMARY:Oliver! Jr
DESCRIPTION:
URL:https://kokomoperformingarts.org/event/oliver-jr/
LOCATION:Havens Auditorium\, 2300 S. Washington Street\, Kokomo\, IN\, 46903\, United States
CATEGORIES:Curtain Call
END:VEVENT
BEGIN:VEVENT
DTSTART;TZID=UTC:20260314T140000
DTEND;TZID=UTC:20260314T160000
DTSTAMP:20260421T101819
CREATED:20251210T223516Z
LAST-MODIFIED:20251210T223516Z
UID:10000126-1773496800-1773504000@kokomoperformingarts.org
SUMMARY:Oliver! Jr
DESCRIPTION:
URL:https://kokomoperformingarts.org/event/oliver-jr-2/
LOCATION:Havens Auditorium\, 2300 S. Washington Street\, Kokomo\, IN\, 46903\, United States
CATEGORIES:Curtain Call
END:VEVENT
BEGIN:VEVENT
DTSTART;TZID=UTC:20260322T150000
DTEND;TZID=UTC:20260322T170000
DTSTAMP:20260421T101819
CREATED:20260310T164510Z
LAST-MODIFIED:20260310T164510Z
UID:10000129-1774191600-1774198800@kokomoperformingarts.org
SUMMARY:Auditions for City Mouse and Country Mouse (Reserve your audition spot at kcctc.org.)
DESCRIPTION:
URL:https://kokomoperformingarts.org/event/auditions-for-city-mouse-and-country-mouse-reserve-your-audition-spot-at-kcctc-org/
LOCATION:Curtain Call Studio\, 2114 N. Armstrong Street\, Kokomo\, IN\, 46901\, United States
CATEGORIES:Curtain Call
END:VEVENT
END:VCALENDAR