BEGIN:VCALENDAR
VERSION:2.0
PRODID:-//Kokomo Area Performing Arts League - ECPv6.6.2//NONSGML v1.0//EN
CALSCALE:GREGORIAN
METHOD:PUBLISH
X-WR-CALNAME:Kokomo Area Performing Arts League
X-ORIGINAL-URL:https://kokomoperformingarts.org
X-WR-CALDESC:Events for Kokomo Area Performing Arts League
REFRESH-INTERVAL;VALUE=DURATION:PT1H
X-Robots-Tag:noindex
X-PUBLISHED-TTL:PT1H
BEGIN:VTIMEZONE
TZID:UTC
BEGIN:STANDARD
TZOFFSETFROM:+0000
TZOFFSETTO:+0000
TZNAME:UTC
DTSTART:20250101T000000
END:STANDARD
END:VTIMEZONE
BEGIN:VEVENT
DTSTART;TZID=UTC:20250727T100000
DTEND;TZID=UTC:20250727T213000
DTSTAMP:20260423T232140
CREATED:20250708T153324Z
LAST-MODIFIED:20250708T153324Z
UID:10000106-1753610400-1753651800@kokomoperformingarts.org
SUMMARY:Panda Express Dine to Donate Event
DESCRIPTION:
URL:https://kokomoperformingarts.org/event/panda-express-dine-to-donate-event/
LOCATION:Panda Express\, 1227 S Reed Rd\, Kokomo\, IN\, 46902\, United States
CATEGORIES:Curtain Call
END:VEVENT
END:VCALENDAR