BEGIN:VCALENDAR
VERSION:2.0
PRODID:-//Kokomo Area Performing Arts League - ECPv6.6.2//NONSGML v1.0//EN
CALSCALE:GREGORIAN
METHOD:PUBLISH
X-ORIGINAL-URL:https://kokomoperformingarts.org
X-WR-CALDESC:Events for Kokomo Area Performing Arts League
REFRESH-INTERVAL;VALUE=DURATION:PT1H
X-Robots-Tag:noindex
X-PUBLISHED-TTL:PT1H
BEGIN:VTIMEZONE
TZID:UTC
BEGIN:STANDARD
TZOFFSETFROM:+0000
TZOFFSETTO:+0000
TZNAME:UTC
DTSTART:20250101T000000
END:STANDARD
END:VTIMEZONE
BEGIN:VEVENT
DTSTART;TZID=UTC:20251010T190000
DTEND;TZID=UTC:20251010T210000
DTSTAMP:20260423T022516
CREATED:20250708T153435Z
LAST-MODIFIED:20250728T233233Z
UID:10000107-1760122800-1760130000@kokomoperformingarts.org
SUMMARY:Full Main Stage Show: Big Fish
DESCRIPTION:
URL:https://kokomoperformingarts.org/event/full-main-stage-show-big-fish/
LOCATION:Havens Auditorium\, 2300 S. Washington Street\, Kokomo\, IN\, 46903\, United States
CATEGORIES:Curtain Call
END:VEVENT
END:VCALENDAR