BEGIN:VCALENDAR
VERSION:2.0
PRODID:-//Kokomo Area Performing Arts League - ECPv6.6.2//NONSGML v1.0//EN
CALSCALE:GREGORIAN
METHOD:PUBLISH
X-ORIGINAL-URL:https://kokomoperformingarts.org
X-WR-CALDESC:Events for Kokomo Area Performing Arts League
REFRESH-INTERVAL;VALUE=DURATION:PT1H
X-Robots-Tag:noindex
X-PUBLISHED-TTL:PT1H
BEGIN:VTIMEZONE
TZID:UTC
BEGIN:STANDARD
TZOFFSETFROM:+0000
TZOFFSETTO:+0000
TZNAME:UTC
DTSTART:20250101T000000
END:STANDARD
END:VTIMEZONE
BEGIN:VEVENT
DTSTART;TZID=UTC:20250719T140000
DTEND;TZID=UTC:20250719T160000
DTSTAMP:20260425T124756
CREATED:20250708T153115Z
LAST-MODIFIED:20250708T153115Z
UID:10000105-1752933600-1752940800@kokomoperformingarts.org
SUMMARY:Summer Singing Celebration: Benefit Concert Kicking Off Our 25th Season
DESCRIPTION:
URL:https://kokomoperformingarts.org/event/summer-singing-celebration-benefit-concert-kicking-off-our-25th-season/
LOCATION:Carver Community Center Auditorium\, 1030 N Purdum Street\, Kokomo\, IN\, 46901\, United States
CATEGORIES:Curtain Call
END:VEVENT
BEGIN:VEVENT
DTSTART;TZID=UTC:20250727T100000
DTEND;TZID=UTC:20250727T213000
DTSTAMP:20260425T124756
CREATED:20250708T153324Z
LAST-MODIFIED:20250708T153324Z
UID:10000106-1753610400-1753651800@kokomoperformingarts.org
SUMMARY:Panda Express Dine to Donate Event
DESCRIPTION:
URL:https://kokomoperformingarts.org/event/panda-express-dine-to-donate-event/
LOCATION:Panda Express\, 1227 S Reed Rd\, Kokomo\, IN\, 46902\, United States
CATEGORIES:Curtain Call
END:VEVENT
BEGIN:VEVENT
DTSTART;TZID=UTC:20250801T190000
DTEND;TZID=UTC:20250801T210000
DTSTAMP:20260425T124756
CREATED:20250319T011908Z
LAST-MODIFIED:20250319T011908Z
UID:10000035-1754074800-1754082000@kokomoperformingarts.org
SUMMARY:Joseph and the Amazing Technicolor Dreamcoat
DESCRIPTION:
URL:https://kokomoperformingarts.org/event/joseph-and-the-amazing-technicolor-dreamcoat/
LOCATION:Havens Auditorium\, 2300 S. Washington Street\, Kokomo\, IN\, 46903\, United States
CATEGORIES:Curtain Call
END:VEVENT
BEGIN:VEVENT
DTSTART;TZID=UTC:20250802T140000
DTEND;TZID=UTC:20250802T160000
DTSTAMP:20260425T124756
CREATED:20250319T011939Z
LAST-MODIFIED:20250319T011939Z
UID:10000036-1754143200-1754150400@kokomoperformingarts.org
SUMMARY:Joseph and the Amazing Technicolor Dreamcoat
DESCRIPTION:
URL:https://kokomoperformingarts.org/event/joseph-and-the-amazing-technicolor-dreamcoat-2/
LOCATION:Havens Auditorium\, 2300 S. Washington Street\, Kokomo\, IN\, 46903\, United States
CATEGORIES:Curtain Call
END:VEVENT
BEGIN:VEVENT
DTSTART;TZID=UTC:20250810T140000
DTEND;TZID=UTC:20250810T160000
DTSTAMP:20260425T124756
CREATED:20250728T233104Z
LAST-MODIFIED:20250728T233104Z
UID:10000114-1754834400-1754841600@kokomoperformingarts.org
SUMMARY:Auditions for the Fall Main Stage Musical: Big Fish
DESCRIPTION:
URL:https://kokomoperformingarts.org/event/auditions-for-the-fall-main-stage-musical-big-fish/
LOCATION:Curtain Call Studio\, 2114 N. Armstrong Street\, Kokomo\, IN\, 46901\, United States
CATEGORIES:Curtain Call
END:VEVENT
BEGIN:VEVENT
DTSTART;TZID=UTC:20250816T100000
DTEND;TZID=UTC:20250816T160000
DTSTAMP:20260425T124756
CREATED:20250728T232949Z
LAST-MODIFIED:20250728T232949Z
UID:10000113-1755338400-1755360000@kokomoperformingarts.org
SUMMARY:Auditions for the Fall Studio Production: The Thirty-Three Little Pigs
DESCRIPTION:
URL:https://kokomoperformingarts.org/event/auditions-for-the-fall-studio-production-the-thirty-three-little-pigs/
LOCATION:Curtain Call Studio\, 2114 N. Armstrong Street\, Kokomo\, IN\, 46901\, United States
CATEGORIES:Curtain Call
END:VEVENT
BEGIN:VEVENT
DTSTART;TZID=UTC:20250919T190000
DTEND;TZID=UTC:20250919T210000
DTSTAMP:20260425T124756
CREATED:20250826T162236Z
LAST-MODIFIED:20250826T162236Z
UID:10000117-1758308400-1758315600@kokomoperformingarts.org
SUMMARY:Curtain Call's Fall Studio Show: The Thirty-Three Little Pigs!
DESCRIPTION:
URL:https://kokomoperformingarts.org/event/curtain-calls-fall-studio-show-the-thirty-three-little-pigs/
LOCATION:Curtain Call Studio\, 2114 N. Armstrong Street\, Kokomo\, IN\, 46901\, United States
CATEGORIES:Curtain Call
END:VEVENT
BEGIN:VEVENT
DTSTART;TZID=UTC:20251010T190000
DTEND;TZID=UTC:20251010T210000
DTSTAMP:20260425T124756
CREATED:20250708T153435Z
LAST-MODIFIED:20250728T233233Z
UID:10000107-1760122800-1760130000@kokomoperformingarts.org
SUMMARY:Full Main Stage Show: Big Fish
DESCRIPTION:
URL:https://kokomoperformingarts.org/event/full-main-stage-show-big-fish/
LOCATION:Havens Auditorium\, 2300 S. Washington Street\, Kokomo\, IN\, 46903\, United States
CATEGORIES:Curtain Call
END:VEVENT
BEGIN:VEVENT
DTSTART;TZID=UTC:20251011T140000
DTEND;TZID=UTC:20251011T160000
DTSTAMP:20260425T124756
CREATED:20250708T153507Z
LAST-MODIFIED:20250728T233259Z
UID:10000108-1760191200-1760198400@kokomoperformingarts.org
SUMMARY:Full Main Stage Show: Big Fish
DESCRIPTION:
URL:https://kokomoperformingarts.org/event/full-main-stage-show-big-fish-2/
LOCATION:Havens Auditorium\, 2300 S. Washington Street\, Kokomo\, IN\, 46903\, United States
CATEGORIES:Curtain Call
END:VEVENT
BEGIN:VEVENT
DTSTART;TZID=UTC:20251019T140000
DTEND;TZID=UTC:20251019T160000
DTSTAMP:20260425T124756
CREATED:20250826T162329Z
LAST-MODIFIED:20250826T162329Z
UID:10000118-1760882400-1760889600@kokomoperformingarts.org
SUMMARY:Curtain Call's Auditions for A Christmas Carol
DESCRIPTION:
URL:https://kokomoperformingarts.org/event/curtain-calls-auditions-for-a-christmas-carol/
LOCATION:Curtain Call Studio\, 2114 N. Armstrong Street\, Kokomo\, IN\, 46901\, United States
CATEGORIES:Curtain Call
END:VEVENT
BEGIN:VEVENT
DTSTART;TZID=UTC:20251212T190000
DTEND;TZID=UTC:20251212T210000
DTSTAMP:20260425T124756
CREATED:20251120T161838Z
LAST-MODIFIED:20251120T162135Z
UID:10000124-1765566000-1765573200@kokomoperformingarts.org
SUMMARY:A Christmas Carol
DESCRIPTION:
URL:https://kokomoperformingarts.org/event/a-christmas-carol-8/
LOCATION:Curtain Call Studio\, 2114 N. Armstrong Street\, Kokomo\, IN\, 46901\, United States
CATEGORIES:Curtain Call
END:VEVENT
BEGIN:VEVENT
DTSTART;TZID=UTC:20251213T140000
DTEND;TZID=UTC:20251213T160000
DTSTAMP:20260425T124756
CREATED:20251120T162021Z
LAST-MODIFIED:20251120T162021Z
UID:10000121-1765634400-1765641600@kokomoperformingarts.org
SUMMARY:A Christmas Carol
DESCRIPTION:
URL:https://kokomoperformingarts.org/event/a-christmas-carol-9/
LOCATION:Curtain Call Studio\, 2114 N. Armstrong Street\, Kokomo\, IN\, 46901\, United States
CATEGORIES:Curtain Call
END:VEVENT
BEGIN:VEVENT
DTSTART;TZID=UTC:20251213T190000
DTEND;TZID=UTC:20251213T210000
DTSTAMP:20260425T124756
CREATED:20251120T162041Z
LAST-MODIFIED:20251120T162041Z
UID:10000122-1765652400-1765659600@kokomoperformingarts.org
SUMMARY:A Christmas Carol
DESCRIPTION:
URL:https://kokomoperformingarts.org/event/a-christmas-carol-10/
LOCATION:Curtain Call Studio\, 2114 N. Armstrong Street\, Kokomo\, IN\, 46901\, United States
CATEGORIES:Curtain Call
END:VEVENT
BEGIN:VEVENT
DTSTART;TZID=UTC:20251214T190000
DTEND;TZID=UTC:20251214T210000
DTSTAMP:20260425T124756
CREATED:20251120T162055Z
LAST-MODIFIED:20251120T162055Z
UID:10000123-1765738800-1765746000@kokomoperformingarts.org
SUMMARY:A Christmas Carol
DESCRIPTION:
URL:https://kokomoperformingarts.org/event/a-christmas-carol-11/
LOCATION:Curtain Call Studio\, 2114 N. Armstrong Street\, Kokomo\, IN\, 46901\, United States
CATEGORIES:Curtain Call
END:VEVENT
BEGIN:VEVENT
DTSTART;TZID=UTC:20260313T190000
DTEND;TZID=UTC:20260313T210000
DTSTAMP:20260425T124756
CREATED:20251210T223431Z
LAST-MODIFIED:20251210T223431Z
UID:10000125-1773428400-1773435600@kokomoperformingarts.org
SUMMARY:Oliver! Jr
DESCRIPTION:
URL:https://kokomoperformingarts.org/event/oliver-jr/
LOCATION:Havens Auditorium\, 2300 S. Washington Street\, Kokomo\, IN\, 46903\, United States
CATEGORIES:Curtain Call
END:VEVENT
BEGIN:VEVENT
DTSTART;TZID=UTC:20260314T140000
DTEND;TZID=UTC:20260314T160000
DTSTAMP:20260425T124756
CREATED:20251210T223516Z
LAST-MODIFIED:20251210T223516Z
UID:10000126-1773496800-1773504000@kokomoperformingarts.org
SUMMARY:Oliver! Jr
DESCRIPTION:
URL:https://kokomoperformingarts.org/event/oliver-jr-2/
LOCATION:Havens Auditorium\, 2300 S. Washington Street\, Kokomo\, IN\, 46903\, United States
CATEGORIES:Curtain Call
END:VEVENT
BEGIN:VEVENT
DTSTART;TZID=UTC:20260322T150000
DTEND;TZID=UTC:20260322T170000
DTSTAMP:20260425T124756
CREATED:20260310T164510Z
LAST-MODIFIED:20260310T164510Z
UID:10000129-1774191600-1774198800@kokomoperformingarts.org
SUMMARY:Auditions for City Mouse and Country Mouse (Reserve your audition spot at kcctc.org.)
DESCRIPTION:
URL:https://kokomoperformingarts.org/event/auditions-for-city-mouse-and-country-mouse-reserve-your-audition-spot-at-kcctc-org/
LOCATION:Curtain Call Studio\, 2114 N. Armstrong Street\, Kokomo\, IN\, 46901\, United States
CATEGORIES:Curtain Call
END:VEVENT
BEGIN:VEVENT
DTSTART;TZID=UTC:20260410T190000
DTEND;TZID=UTC:20260410T210000
DTSTAMP:20260425T124756
CREATED:20260310T164856Z
LAST-MODIFIED:20260310T164856Z
UID:10000131-1775847600-1775854800@kokomoperformingarts.org
SUMMARY:The Women of Lockerbie
DESCRIPTION:
URL:https://kokomoperformingarts.org/event/the-women-of-lockerbie/
LOCATION:Curtain Call Studio\, 2114 N. Armstrong Street\, Kokomo\, IN\, 46901\, United States
CATEGORIES:Curtain Call
END:VEVENT
BEGIN:VEVENT
DTSTART;TZID=UTC:20260411T140000
DTEND;TZID=UTC:20260411T160000
DTSTAMP:20260425T124756
CREATED:20260310T164939Z
LAST-MODIFIED:20260310T164939Z
UID:10000132-1775916000-1775923200@kokomoperformingarts.org
SUMMARY:The Women of Lockerbie
DESCRIPTION:
URL:https://kokomoperformingarts.org/event/the-women-of-lockerbie-2/
LOCATION:Curtain Call Studio\, 2114 N. Armstrong Street\, Kokomo\, IN\, 46901\, United States
CATEGORIES:Curtain Call
END:VEVENT
BEGIN:VEVENT
DTSTART;TZID=UTC:20260411T190000
DTEND;TZID=UTC:20260411T210000
DTSTAMP:20260425T124756
CREATED:20260310T164958Z
LAST-MODIFIED:20260310T164958Z
UID:10000133-1775934000-1775941200@kokomoperformingarts.org
SUMMARY:The Women of Lockerbie
DESCRIPTION:
URL:https://kokomoperformingarts.org/event/the-women-of-lockerbie-3/
LOCATION:Curtain Call Studio\, 2114 N. Armstrong Street\, Kokomo\, IN\, 46901\, United States
CATEGORIES:Curtain Call
END:VEVENT
BEGIN:VEVENT
DTSTART;TZID=UTC:20260412T140000
DTEND;TZID=UTC:20260412T160000
DTSTAMP:20260425T124756
CREATED:20260310T165023Z
LAST-MODIFIED:20260310T165023Z
UID:10000134-1776002400-1776009600@kokomoperformingarts.org
SUMMARY:The Women of Lockerbie
DESCRIPTION:
URL:https://kokomoperformingarts.org/event/the-women-of-lockerbie-4/
LOCATION:Curtain Call Studio\, 2114 N. Armstrong Street\, Kokomo\, IN\, 46901\, United States
CATEGORIES:Curtain Call
END:VEVENT
BEGIN:VEVENT
DTSTART;VALUE=DATE:20260515
DTEND;VALUE=DATE:20260516
DTSTAMP:20260425T124756
CREATED:20260401T133227Z
LAST-MODIFIED:20260401T133227Z
UID:10000201-1778803200-1778889599@kokomoperformingarts.org
SUMMARY:KCC City Mouse and Country Mouse
DESCRIPTION:
URL:https://kokomoperformingarts.org/event/kcc-city-mouse-and-country-mouse/
LOCATION:IN
CATEGORIES:Curtain Call
END:VEVENT
BEGIN:VEVENT
DTSTART;VALUE=DATE:20260516
DTEND;VALUE=DATE:20260517
DTSTAMP:20260425T124756
CREATED:20260401T133326Z
LAST-MODIFIED:20260401T133334Z
UID:10000204-1778889600-1778975999@kokomoperformingarts.org
SUMMARY:KCC Peter Pan Auditions
DESCRIPTION:
URL:https://kokomoperformingarts.org/event/kcc-peter-pan-auditions/
LOCATION:IN
CATEGORIES:Curtain Call
END:VEVENT
BEGIN:VEVENT
DTSTART;VALUE=DATE:20260516
DTEND;VALUE=DATE:20260517
DTSTAMP:20260425T124756
CREATED:20260401T133250Z
LAST-MODIFIED:20260401T133250Z
UID:10000202-1778889600-1778975999@kokomoperformingarts.org
SUMMARY:KCC City Mouse and Country Mouse
DESCRIPTION:
URL:https://kokomoperformingarts.org/event/kcc-city-mouse-and-country-mouse-2/
LOCATION:IN
CATEGORIES:Curtain Call
END:VEVENT
BEGIN:VEVENT
DTSTART;VALUE=DATE:20260517
DTEND;VALUE=DATE:20260518
DTSTAMP:20260425T124756
CREATED:20260401T133301Z
LAST-MODIFIED:20260401T133301Z
UID:10000203-1778976000-1779062399@kokomoperformingarts.org
SUMMARY:KCC City Mouse and Country Mouse
DESCRIPTION:
URL:https://kokomoperformingarts.org/event/kcc-city-mouse-and-country-mouse-3/
LOCATION:IN
CATEGORIES:Curtain Call
END:VEVENT
BEGIN:VEVENT
DTSTART;VALUE=DATE:20260619
DTEND;VALUE=DATE:20260620
DTSTAMP:20260425T124756
CREATED:20260401T133908Z
LAST-MODIFIED:20260401T133908Z
UID:10000206-1781827200-1781913599@kokomoperformingarts.org
SUMMARY:KCC 25th Annual Putnam County Spelling Bee Dinner Theatre
DESCRIPTION:
URL:https://kokomoperformingarts.org/event/kcc-25th-annual-putnam-county-spelling-bee-dinner-theatre/
LOCATION:IN
CATEGORIES:Curtain Call
END:VEVENT
BEGIN:VEVENT
DTSTART;VALUE=DATE:20260620
DTEND;VALUE=DATE:20260621
DTSTAMP:20260425T124756
CREATED:20260310T165901Z
LAST-MODIFIED:20260401T135306Z
UID:10000200-1781913600-1781999999@kokomoperformingarts.org
SUMMARY:KCC 25th Anniversary Reunion
DESCRIPTION:
URL:https://kokomoperformingarts.org/event/25th-anniversary-reunion/
LOCATION:IN
CATEGORIES:Curtain Call
END:VEVENT
BEGIN:VEVENT
DTSTART;VALUE=DATE:20260621
DTEND;VALUE=DATE:20260622
DTSTAMP:20260425T124756
CREATED:20260401T134055Z
LAST-MODIFIED:20260401T134055Z
UID:10000208-1782000000-1782086399@kokomoperformingarts.org
SUMMARY:KCC 25th Annual Putnam County Spelling Bee Dinner Theatre
DESCRIPTION:
URL:https://kokomoperformingarts.org/event/kcc-25th-annual-putnam-county-spelling-bee-dinner-theatre-2/
LOCATION:IN
CATEGORIES:Curtain Call
END:VEVENT
BEGIN:VEVENT
DTSTART;TZID=UTC:20260724T190000
DTEND;TZID=UTC:20260724T210000
DTSTAMP:20260425T124756
CREATED:20260401T134232Z
LAST-MODIFIED:20260401T134232Z
UID:10000209-1784919600-1784926800@kokomoperformingarts.org
SUMMARY:KCC Peter Pan Summer Main Stage Production
DESCRIPTION:
URL:https://kokomoperformingarts.org/event/kcc-peter-pan-summer-main-stage-production-2/
LOCATION:Havens Auditorium\, 2300 S. Washington Street\, Kokomo\, IN\, 46903\, United States
CATEGORIES:Curtain Call
END:VEVENT
BEGIN:VEVENT
DTSTART;TZID=UTC:20260725T140000
DTEND;TZID=UTC:20260725T160000
DTSTAMP:20260425T124756
CREATED:20260401T134020Z
LAST-MODIFIED:20260401T134129Z
UID:10000207-1784988000-1784995200@kokomoperformingarts.org
SUMMARY:KCC Peter Pan Summer Main Stage Production
DESCRIPTION:
URL:https://kokomoperformingarts.org/event/kcc-peter-pan-summer-main-stage-production/
LOCATION:Havens Auditorium\, 2300 S. Washington Street\, Kokomo\, IN\, 46903\, United States
CATEGORIES:Curtain Call
END:VEVENT
END:VCALENDAR