BEGIN:VCALENDAR
VERSION:2.0
PRODID:-//Kokomo Area Performing Arts League - ECPv6.6.2//NONSGML v1.0//EN
CALSCALE:GREGORIAN
METHOD:PUBLISH
X-WR-CALNAME:Kokomo Area Performing Arts League
X-ORIGINAL-URL:https://kokomoperformingarts.org
X-WR-CALDESC:Events for Kokomo Area Performing Arts League
REFRESH-INTERVAL;VALUE=DURATION:PT1H
X-Robots-Tag:noindex
X-PUBLISHED-TTL:PT1H
BEGIN:VTIMEZONE
TZID:UTC
BEGIN:STANDARD
TZOFFSETFROM:+0000
TZOFFSETTO:+0000
TZNAME:UTC
DTSTART:20240101T000000
END:STANDARD
END:VTIMEZONE
BEGIN:VEVENT
DTSTART;TZID=UTC:20250516T190000
DTEND;TZID=UTC:20250516T210000
DTSTAMP:20260419T185009
CREATED:20250508T184220Z
LAST-MODIFIED:20250508T184220Z
UID:10000060-1747422000-1747429200@kokomoperformingarts.org
SUMMARY:The Yellow Boat Production
DESCRIPTION:
URL:https://kokomoperformingarts.org/event/the-yellow-boat-production/
LOCATION:Curtain Call Studio\, 2114 N. Armstrong Street\, Kokomo\, IN\, 46901\, United States
CATEGORIES:Curtain Call
END:VEVENT
BEGIN:VEVENT
DTSTART;TZID=UTC:20250510T100000
DTEND;TZID=UTC:20250510T160000
DTSTAMP:20260419T185009
CREATED:20250508T183855Z
LAST-MODIFIED:20250508T183855Z
UID:10000058-1746871200-1746892800@kokomoperformingarts.org
SUMMARY:Auditions: Joseph & the Amazing Technicolor Dreamcoat
DESCRIPTION:
URL:https://kokomoperformingarts.org/event/auditions-joseph-the-amazing-technicolor-dreamcoat/
LOCATION:Curtain Call Studio\, 2114 N. Armstrong Street\, Kokomo\, IN\, 46901\, United States
CATEGORIES:Curtain Call
END:VEVENT
BEGIN:VEVENT
DTSTART;TZID=UTC:20250322T140000
DTEND;TZID=UTC:20250322T160000
DTSTAMP:20260419T185009
CREATED:20250319T011759Z
LAST-MODIFIED:20250319T011759Z
UID:10000034-1742652000-1742659200@kokomoperformingarts.org
SUMMARY:The Lion King Jr.
DESCRIPTION:
URL:https://kokomoperformingarts.org/event/the-lion-king-jr-2/
LOCATION:Havens Auditorium\, 2300 S. Washington Street\, Kokomo\, IN\, 46903\, United States
CATEGORIES:Curtain Call
END:VEVENT
BEGIN:VEVENT
DTSTART;TZID=UTC:20250321T190000
DTEND;TZID=UTC:20250321T210000
DTSTAMP:20260419T185009
CREATED:20250319T011702Z
LAST-MODIFIED:20250319T011702Z
UID:10000033-1742583600-1742590800@kokomoperformingarts.org
SUMMARY:The Lion King Jr.
DESCRIPTION:
URL:https://kokomoperformingarts.org/event/the-lion-king-jr/
LOCATION:Havens Auditorium\, 2300 S. Washington Street\, Kokomo\, IN\, 46903\, United States
CATEGORIES:Curtain Call
END:VEVENT
BEGIN:VEVENT
DTSTART;TZID=UTC:20241215T140000
DTEND;TZID=UTC:20241215T170000
DTSTAMP:20260419T185009
CREATED:20240826T031729Z
LAST-MODIFIED:20240911T001735Z
UID:10000011-1734271200-1734282000@kokomoperformingarts.org
SUMMARY:A Christmas Carol
DESCRIPTION:
URL:https://kokomoperformingarts.org/event/a-christmas-carol-4/
LOCATION:Curtain Call Studio\, 2114 N. Armstrong Street\, Kokomo\, IN\, 46901\, United States
CATEGORIES:Curtain Call
END:VEVENT
BEGIN:VEVENT
DTSTART;TZID=UTC:20241214T190000
DTEND;TZID=UTC:20241214T220000
DTSTAMP:20260419T185009
CREATED:20240826T031702Z
LAST-MODIFIED:20240911T001740Z
UID:10000010-1734202800-1734213600@kokomoperformingarts.org
SUMMARY:A Christmas Carol
DESCRIPTION:
URL:https://kokomoperformingarts.org/event/a-christmas-carol-3/
LOCATION:Curtain Call Studio\, 2114 N. Armstrong Street\, Kokomo\, IN\, 46901\, United States
CATEGORIES:Curtain Call
END:VEVENT
BEGIN:VEVENT
DTSTART;TZID=UTC:20241213T190000
DTEND;TZID=UTC:20241213T220000
DTSTAMP:20260419T185009
CREATED:20240826T031620Z
LAST-MODIFIED:20240911T001744Z
UID:10000009-1734116400-1734127200@kokomoperformingarts.org
SUMMARY:A Christmas Carol
DESCRIPTION:
URL:https://kokomoperformingarts.org/event/a-christmas-carol-2/
LOCATION:Curtain Call Studio\, 2114 N. Armstrong Street\, Kokomo\, IN\, 46901\, United States
CATEGORIES:Curtain Call
END:VEVENT
BEGIN:VEVENT
DTSTART;TZID=UTC:20241212T190000
DTEND;TZID=UTC:20241212T220000
DTSTAMP:20260419T185009
CREATED:20240826T031528Z
LAST-MODIFIED:20240911T001748Z
UID:10000008-1734030000-1734040800@kokomoperformingarts.org
SUMMARY:A Christmas Carol
DESCRIPTION:
URL:https://kokomoperformingarts.org/event/a-christmas-carol/
LOCATION:Curtain Call Studio\, 2114 N. Armstrong Street\, Kokomo\, IN\, 46901\, United States
CATEGORIES:Curtain Call
END:VEVENT
BEGIN:VEVENT
DTSTART;TZID=UTC:20241019T170000
DTEND;TZID=UTC:20241019T210000
DTSTAMP:20260419T185009
CREATED:20240826T031336Z
LAST-MODIFIED:20241017T011012Z
UID:10000007-1729357200-1729371600@kokomoperformingarts.org
SUMMARY:Do Good with Chipotle Fundraiser (25% donation with mention of fundraiser 5-9 PM)
DESCRIPTION:
URL:https://kokomoperformingarts.org/event/do-good-with-chipotle-fundraiser-25-donation-with-mention-of-fundraiser-5-9-pm/
LOCATION:Chipotle\, 1201 S Reed Rd\, STE B\, Kokomo\, IN\, 46902\, United States
CATEGORIES:Curtain Call
END:VEVENT
BEGIN:VEVENT
DTSTART;VALUE=DATE:20240925
DTEND;VALUE=DATE:20240926
DTSTAMP:20260419T185009
CREATED:20240826T030930Z
LAST-MODIFIED:20240911T002200Z
UID:10000004-1727222400-1727308799@kokomoperformingarts.org
SUMMARY:Curtain Call Eat Wings Raise Funds Fundraiser Event (25% donation all day with mention of the fundraiser)
DESCRIPTION:
URL:https://kokomoperformingarts.org/event/curtain-call-eat-wings-raise-funds-fundraiser-event-25-donation-all-day-with-mention-of-the-fundraiser/
LOCATION:Buffalo Wild Wings\, 1780 E Boulevard\, #119\, Kokomo\, IN\, 46902\, United States
CATEGORIES:Curtain Call
END:VEVENT
BEGIN:VEVENT
DTSTART;VALUE=DATE:20240829
DTEND;VALUE=DATE:20240830
DTSTAMP:20260419T185009
CREATED:20240826T030734Z
LAST-MODIFIED:20240911T002034Z
UID:10000003-1724889600-1724975999@kokomoperformingarts.org
SUMMARY:Curtain Call Hacienda Gives Back Fundraiser Event (% donated back all day with coupon)
DESCRIPTION:
URL:https://kokomoperformingarts.org/event/curtain-call-hacienda-gives-back-fundraiser-event-donated-back-all-day-with-coupon/
LOCATION:Hacienda Mexican Restaurant\, 2006 Plate Street\, Kokomo\, IN\, 46902\, United States
CATEGORIES:Curtain Call
END:VEVENT
BEGIN:VEVENT
DTSTART;TZID=UTC:20240809T193000
DTEND;TZID=UTC:20240809T210000
DTSTAMP:20260419T185009
CREATED:20240807T143720Z
LAST-MODIFIED:20240911T002041Z
UID:10000001-1723231800-1723237200@kokomoperformingarts.org
SUMMARY:May We All
DESCRIPTION:
URL:https://kokomoperformingarts.org/event/may-we-all/
LOCATION:IN
CATEGORIES:Curtain Call
END:VEVENT
END:VCALENDAR